BEGIN:VCALENDAR
VERSION:2.0
PRODID:-//Caminando por Madrid - ECPv6.15.13.1//NONSGML v1.0//EN
CALSCALE:GREGORIAN
METHOD:PUBLISH
X-WR-CALNAME:Caminando por Madrid
X-ORIGINAL-URL:https://caminandopormadrid.com
X-WR-CALDESC:Eventos para Caminando por Madrid
REFRESH-INTERVAL;VALUE=DURATION:PT1H
X-Robots-Tag:noindex
X-PUBLISHED-TTL:PT1H
BEGIN:VTIMEZONE
TZID:UTC
BEGIN:STANDARD
TZOFFSETFROM:+0000
TZOFFSETTO:+0000
TZNAME:UTC
DTSTART:20240101T000000
END:STANDARD
END:VTIMEZONE
BEGIN:VEVENT
DTSTART;TZID=UTC:20251101T110000
DTEND;TZID=UTC:20251101T130000
DTSTAMP:20260421T142646
CREATED:20251026T083406Z
LAST-MODIFIED:20251026T083406Z
UID:20053-1761994800-1762002000@caminandopormadrid.com
SUMMARY:"Mujeres que cambiaron la Historia"
DESCRIPTION:Sábado 1 de Noviembre de 2025 a las 11:00 horas.\nCita: Junto al cine Callao\, en la plaza del Callao.\nVamos a recorrer las calles donde vivieron toda una serie de mujeres que hicieron historia: Políticas\, escritoras\, trabajadoras… Algunas son conocidas\, otras han quedado en el olvido. En lo que fue la zona norte de Madrid\, entre la Gran Vía y los Bulevares\, han vivido mujeres muy interesantes que han dedicado sus vidas a causas justas y humanitarias\, otras han pasado a la historia por sus logros\, por sus escritos\, por su arte\, alguna por su repercusión en la vida social de su época. Hablaremos de Concepción Arenal\, de Emilia Pardo Bazán\, de Clara Campoamor\, de Trinidad Von Scholtz\, de doña Pepita\, de Victoria Kent\, de Carmen de Burgos… Historias y anécdotas para conocer mejor a muchas mujeres interesantes de la Historia de Madrid. La visita termina cerca del metro San Bernardo. \nDuración: dos horas. Precio: 12 euros \nApúntate por whatsapp: 697 41 96 73\,  o por correo a info@caminandopormadrid.com con tu nombre-s y teléfono. \nSe ruega puntualidad. Se paga al comienzo\, en efectivo o por bizum. \n \n \n(c) Visita creada por Carlos Osorio. \nSi deseas recibir las convocatorias semanales\, envía un whatsapp al 697 41 96 73.
URL:https://caminandopormadrid.com/visita/mujeres-que-cambiaron-la-historia
LOCATION:Cine Callao\, Plaza del Callao\, 3\, MADRID\, MADRID\, 28013\, Spain
END:VEVENT
BEGIN:VEVENT
DTSTART;TZID=UTC:20251108T103000
DTEND;TZID=UTC:20251108T131500
DTSTAMP:20260421T142646
CREATED:20251101T165223Z
LAST-MODIFIED:20251101T165223Z
UID:20056-1762597800-1762607700@caminandopormadrid.com
SUMMARY:"La Guerra Civil: la Batalla de Madrid"
DESCRIPTION:Sábado 8 de Noviembre de 2025 a las 10:30 horas\nCita: a las 10:30 h. en c/ Princesa esquina Paseo de Moret (a la salida del metro-intercambiador de Moncloa)\nVamos a conocer en detalle la Batalla de Madrid\, que tuvo lugar en Noviembre de 1936\, recorriendo los escenarios del frente de Moncloa y la Ciudad Universitaria. Hablaremos de las tácticas de ataque y defensa de ambos ejércitos\, las batallas y escaramuzas\, los combates en la cárcel Modelo\, en el parque del Oeste\, el Clínico\, las facultades de la Complutense… La defensa de Madrid\, organizada sobre la marcha y nutrida por voluntarios\, muchos de ellos sin experiencia militar\, que se enfrentaron a un ejército profesional experimentado\, tuvo el carácter de una epopeya. Conoceremos a quienes tomaron parte en estas luchas\, los sucesos y las anécdotas de esta guerra fratricida\, y localizaremos los vestigios ocultos de la contienda que aún permanecen: Agujeros de balas y metralla\, cráteres de minas\, etc. \nDuración: 2 horas y 45 minutos.  Precio: 12 €. \n\n\n\n\nApúntate por whatsapp: 697 41 96 73\, indicando tu nombre. O bien por correo: info@caminandopormadrid.com \nEsta visita tiene un recorrido más largo de lo habitual\, por lo que no está recomendada a personas con dificultades de movilidad. Se ruega puntualidad. Se paga al comienzo\, en efectivo o por bizum. \n\n\n\n\n\n\n\n\n\n\n\n \n \n(c) Visita creada por Carlos Osorio.
URL:https://caminandopormadrid.com/visita/la-guerra-civil-la-batalla-de-madrid-2
LOCATION:Intercambiador de Moncloa\, C/ Princesa\, 89. Moncloa-Aravaca. 28008 Madrid\, Madrid\, 28008
END:VEVENT
BEGIN:VEVENT
DTSTART;TZID=UTC:20251116T110000
DTEND;TZID=UTC:20251116T130000
DTSTAMP:20260421T142646
CREATED:20170519T145233Z
LAST-MODIFIED:20251108T180933Z
UID:11843-1763290800-1763298000@caminandopormadrid.com
SUMMARY:"El Barrio de Los Jerónimos"
DESCRIPTION:Domingo 16 de Noviembre de 2022 a las 11:00 horas.\nCita: en la puerta principal de la iglesia de Los Jerónimos.\nNueva visita para conocer nuestra más importante iglesia gótica y el barrio aristocrático que lleva su nombre\, entre el Paseo del Prado y El Retiro. La iglesia del monasterio de los Jerónimos\, del año 1503\, posee interesantes obras de arte y una larga historia ligada a la realeza española. El barrio de los Jerónimos ocupa el lugar del antiguo palacio del Buen Retiro\, del cual nos quedan el Casón y el Salón de Reinos. En sus bellas y apacibles calles hay valiosos ejemplos de la arquitectura ecléctica e historicista del cambio de siglo XIX al XX. Comentaremos la vida y anécdotas de sus pobladores y los secretos de un barrio lleno de atractivos. Terminamos cerca de  Cibeles. \nDuración: Dos horas. Precio: 12 euros. \nApúntate por whatsapp en el  697 419 673 indicando nombre-s\, o bien un correo a info@caminandopormadrid.com indicando nombre-s y teléfono. Se ruega puntualidad. \nSe paga al comienzo\, en efectivo o por bizum  . \n\n \n \n 
URL:https://caminandopormadrid.com/visita/visita-guiada-el-barrio-de-los-jeronimos
LOCATION:Iglesia de los Jerónimos\, calle Moreto\, 4\, Madrid\, 28014\, España
END:VEVENT
BEGIN:VEVENT
DTSTART;TZID=UTC:20251123T110000
DTEND;TZID=UTC:20251123T130000
DTSTAMP:20260421T142646
CREATED:20251113T084636Z
LAST-MODIFIED:20251113T084636Z
UID:20084-1763895600-1763902800@caminandopormadrid.com
SUMMARY:"El Madrid de los Austrias y sus Pastelerías"
DESCRIPTION:.\n\nDomingo 23 de Noviembre de 2025 a las 11:00 horas\nCita: junto a la pastelería Casa Mira\, Cra. S. Jerónimo\, 30.\nEn este paseo vamos a conocer historias y anécdotas  del Madrid de los Austrias\, conociendo sus mejores pastelerías tradicionales. Pasearemos por Canalejas\, la Puerta del Sol\, la Plaza de la Provincia\, Plaza Mayor y Plaza de la Villa. Conoceremos los dulces típicos de Madrid en cada época del año. También hablaremos de las chocolaterías y de la tradición del chocolate con churros\, así como los caramelos más típicos de Madrid\, y de los dulces típicos navideños. Hablaremos de golosos célebres\, como Jacinto Benavente quien decía: «No pueden ser buenas personas aquellas a quienes no les gustan los dulces». De paso contaremos historias y anécdotas de las calles por donde pasamos. \n\nDuración: Dos horas. Precio 12 € \nApúntate por  whatsapp: 697 41 96 73\, o por correo: info@caminandopormadrid.com\, con tu nombre y número de teléfono. \nSe ruega puntualidad. Se paga al comienzo\, en efectivo o bizum.
URL:https://caminandopormadrid.com/visita/el-madrid-de-los-austrias-y-sus-pastelerias
END:VEVENT
BEGIN:VEVENT
DTSTART;TZID=UTC:20251129T110000
DTEND;TZID=UTC:20251129T130000
DTSTAMP:20260421T142646
CREATED:20251120T083303Z
LAST-MODIFIED:20251120T084539Z
UID:20089-1764414000-1764421200@caminandopormadrid.com
SUMMARY:"El Madrid de Galdós"
DESCRIPTION:Sábado 29 de Noviembre de 2025 a las 11:00 h.\nCita: a las 11 h. junto al Teatro Español\, plaza de Santa Ana.\nVamos a recorrer el antiguo Madrid de la mano de Benito Pérez Galdós: un mundo lleno de cafés\, teatros\, tabernas\, comercios\, callejuelas y rincones evocadores. Seguiremos las huellas de este gran paseante\, localizando los lugares que más le inspiraron. Recordaremos a sus personajes favoritos que ya forman parte de la vida y el anecdotario de nuestra ciudad. Disfrutaremos de su agudo ingenio comentando las anécdotas de don Benito\, considerado por muchos como el mejor escritor en castellano después de Cervantes. Una visita amena y muy atractiva para conocer la historia y las costumbres madrileñas de la mano de Galdós. La visita termina en San Ginés. \nDuración: Dos horas. Precio: 10 euros. \nApúntate por whatsapp: 697 419 673  indicando nombre-s.o bien por correo: info@caminandopormadrid.com  indicando nombre-s y teléfono. \nSe ruega puntualidad. Se paga al comienzo\, en efectivo o por bizum\, \n\n\n\n.
URL:https://caminandopormadrid.com/visita/el-madrid-de-galdos-2
LOCATION:Teatro Español\, Cale del Príncipe\, 25\, Madrid\, 28012\, España
END:VEVENT
END:VCALENDAR