BEGIN:VCALENDAR
VERSION:2.0
PRODID:-//Caminando por Madrid - ECPv6.15.13.1//NONSGML v1.0//EN
CALSCALE:GREGORIAN
METHOD:PUBLISH
X-WR-CALNAME:Caminando por Madrid
X-ORIGINAL-URL:https://caminandopormadrid.com
X-WR-CALDESC:Eventos para Caminando por Madrid
REFRESH-INTERVAL;VALUE=DURATION:PT1H
X-Robots-Tag:noindex
X-PUBLISHED-TTL:PT1H
BEGIN:VTIMEZONE
TZID:UTC
BEGIN:STANDARD
TZOFFSETFROM:+0000
TZOFFSETTO:+0000
TZNAME:UTC
DTSTART:20240101T000000
END:STANDARD
END:VTIMEZONE
BEGIN:VEVENT
DTSTART;TZID=UTC:20251207T110000
DTEND;TZID=UTC:20251207T130000
DTSTAMP:20260419T125729
CREATED:20251126T163417Z
LAST-MODIFIED:20251126T163417Z
UID:20106-1765105200-1765112400@caminandopormadrid.com
SUMMARY:"Secretos del Barrio de Chueca"
DESCRIPTION:. \nDomingo 7 de Diciembre de 2025 a las 11:00 horas\nCita: C/ Alcalá esquina C/ Barquillo\, (metro Banco salida Barquillo)\n\n\nVamos a conocer los secretos  del antiguo barrio de los chisperos. Describiremos los monumentos más atractivos y la mejor arquitectura (Iglesias\, palacios). Conoceremos sus leyendas más sorprendentes (la Casa de las Siete Chimeneas\, la calle de Válgame Dios…) Descubriremos vestigios de oficios y costumbres populares (La primera sesión de cine en Madrid\, el Circo Price\, la Casa de Tócame Roque\, la Fábrica de Coches\, El Cachito de Cielo…) Sabremos el origen del nombre de sus calles. Conoceremos de paso la historia y la tradición gastronómica de las tabernas históricas (Carmencita\, El Comunista\, Sierra\,…) y otros locales de interés. Terminaremos el recorrido en la plaza de Santa Bárbara. \nDuración: Dos horas. Precio: 12 €.  \nApúntate por Whatsapp al 697 41 96 73 o bien por correo: info@caminandopormadrid.com indicando nombre-s y teléfono. \nSe ruega puntualidad. Se paga al comienzo\, en efectivo o por bizum . \n\n\n\n\n\n\n \n \n\n(c) Visita creada por Carlos Osorio.
URL:https://caminandopormadrid.com/visita/secretos-del-barrio-de-chueca
LOCATION:Metro Banco\, calle Alcalá\, 49\, Madrid\, 28014\, España
END:VEVENT
END:VCALENDAR