BEGIN:VCALENDAR
VERSION:2.0
PRODID:-//Caminando por Madrid - ECPv6.15.13.1//NONSGML v1.0//EN
CALSCALE:GREGORIAN
METHOD:PUBLISH
X-WR-CALNAME:Caminando por Madrid
X-ORIGINAL-URL:https://caminandopormadrid.com
X-WR-CALDESC:Eventos para Caminando por Madrid
REFRESH-INTERVAL;VALUE=DURATION:PT1H
X-Robots-Tag:noindex
X-PUBLISHED-TTL:PT1H
BEGIN:VTIMEZONE
TZID:UTC
BEGIN:STANDARD
TZOFFSETFROM:+0000
TZOFFSETTO:+0000
TZNAME:UTC
DTSTART:20240101T000000
END:STANDARD
END:VTIMEZONE
BEGIN:VEVENT
DTSTART;TZID=UTC:20251031T170000
DTEND;TZID=UTC:20251031T190000
DTSTAMP:20260421T153156
CREATED:20251026T071453Z
LAST-MODIFIED:20251026T071453Z
UID:20050-1761930000-1761937200@caminandopormadrid.com
SUMMARY:"Arquitectura con encanto: Modernismo y Regionalismo"
DESCRIPTION:Viernes 31 de Octubre de 2025 a las 17:00 horas.\nCita: Junto al Museo de Historia de Madrid\, C/ Fuencarral\, 78 (Verja de entrada)\nLa llegada del siglo XX supuso una revolución en la arquitectura. Se buscaba la belleza sin renunciar a la utilidad y la funcionalidad. Los nuevos materiales y las nuevas fórmulas constructivas permitían recuperar de un modo más accesible el regusto por la belleza que había caracterizado a los estilos históricos de la arquitectura. El Modernismo madrileño tuvo sus propias señas de identidad. Arquitectos muy imaginativos crearon edificios con mucho encanto y originalidad. Paralelamente al modernismo surgió el Regionalismo español\, una búsqueda de una arquitectura propia\, netamente española. Los edificios van a incorporar soberbias balconadas\, grandes aleros y airosos ventanales para engrandecer el paisaje urbano y librarlo de la monotonía. La guerra civil supuso el fin de este bonito proyecto\, del que nos han quedado interesantes muestras que vamos a conocer en este paseo. Terminamos viendo una de las casas modernistas más bellas del mundo\, el Palacio Longoria (Sociedad de Autores) \n  \n\nDuración: Dos horas.  Precio: 12 €. \n\nApúntate por whatsapp: 697 41 96 73\, indicando tu nombre. O bien por correo: info@caminandopormadrid.com \nSe ruega puntualidad. Se paga al comienzo\, en efectivo o por bizum. \n  \n\n\n\n\n \n\n\n\n\n\n\n\n\n\n\n(c) Visita creada por Carlos Osorio.
URL:https://caminandopormadrid.com/visita/arquitectura-con-encanto-modernismo-y-regionalismo-3
LOCATION:calle Fuencarral\, 78\, calle Fuencarral\, 78\, Madrid\, 28004\, España
END:VEVENT
END:VCALENDAR