BEGIN:VCALENDAR
VERSION:2.0
PRODID:-//Caminando por Madrid - ECPv6.15.13.1//NONSGML v1.0//EN
CALSCALE:GREGORIAN
METHOD:PUBLISH
X-ORIGINAL-URL:https://caminandopormadrid.com
X-WR-CALDESC:Eventos para Caminando por Madrid
REFRESH-INTERVAL;VALUE=DURATION:PT1H
X-Robots-Tag:noindex
X-PUBLISHED-TTL:PT1H
BEGIN:VTIMEZONE
TZID:UTC
BEGIN:STANDARD
TZOFFSETFROM:+0000
TZOFFSETTO:+0000
TZNAME:UTC
DTSTART:20240101T000000
END:STANDARD
END:VTIMEZONE
BEGIN:VEVENT
DTSTART;TZID=UTC:20250927T110000
DTEND;TZID=UTC:20250927T130000
DTSTAMP:20260425T113204
CREATED:20250917T204552Z
LAST-MODIFIED:20250917T205306Z
UID:20014-1758970800-1758978000@caminandopormadrid.com
SUMMARY:"El Barrio de Ibiza y la Colonia del Retiro"
DESCRIPTION:Sábado 27 de Septiembre de 2025 a las 11:00 horas\nCita: en la salida  del metro Ibiza (Línea 9)\nEl barrio del Retiro pasa por ser uno de los más agradables de Madrid. En ello influye la proximidad del parque del Retiro\, así como la «Costa de Menéndez Pelayo»\, los bulevares de Ibiza y Sainz de Baranda y la preciosa colonia de chalecitos del Retiro. Pasearemos por la calle Ibiza\, calle de poetas y cantantes\, conoceremos a Nuestra Señora de Madrid\, una virgen olvidada\, señalaremos los comercios con encanto y las tabernas de buen comer. Luego pasearemos por la atractiva Colonia del Retiro hasta la plaza del Conde de Casal. \nDuración: De dos horas a dos horas y media.  Precio: 10 €. \nApúntate por whatsapp: 697 41 96 73\, indicando tu nombre. O bien por correo: info@caminandopormadrid.com indicando nombre-s y teléfono. \nSe paga al comienzo\, en efectivo o bizum. Se ruega puntualidad. \n \n \n(c) Una visita creada por Carlos Osorio. \nSi deseas recibir las convocatorias de los paseos semanales\, envía un whatsapp al 697 41 96 73. \n 
URL:https://caminandopormadrid.com/visita/el-barrio-de-ibiza-y-la-colonia-del-retiro
LOCATION:Metro Ibiza\, Calle Ibiza\, 4\, MADRID\, MADRID\, 28009\, Spain
END:VEVENT
END:VCALENDAR