BEGIN:VCALENDAR
VERSION:2.0
PRODID:-//Caminando por Madrid - ECPv6.15.13.1//NONSGML v1.0//EN
CALSCALE:GREGORIAN
METHOD:PUBLISH
X-ORIGINAL-URL:https://caminandopormadrid.com
X-WR-CALDESC:Eventos para Caminando por Madrid
REFRESH-INTERVAL;VALUE=DURATION:PT1H
X-Robots-Tag:noindex
X-PUBLISHED-TTL:PT1H
BEGIN:VTIMEZONE
TZID:UTC
BEGIN:STANDARD
TZOFFSETFROM:+0000
TZOFFSETTO:+0000
TZNAME:UTC
DTSTART:20240101T000000
END:STANDARD
END:VTIMEZONE
BEGIN:VEVENT
DTSTART;TZID=UTC:20250920T110000
DTEND;TZID=UTC:20250920T130000
DTSTAMP:20260425T112426
CREATED:20250908T094631Z
LAST-MODIFIED:20250908T094631Z
UID:20001-1758366000-1758373200@caminandopormadrid.com
SUMMARY:"Antonio Palacios\, Arquitectura y Belleza"
DESCRIPTION:Sábado 20 de Septiembre de 2025 a las 11:00 horas.\nCita: C/ Alcalá\, 54\, esquina C/ Alfonso XI\nAlgunos de los edificios más bellos y representativos del centro de Madrid son obras del gran arquitecto Antonio Palacios. Son testigos de un tiempo\, el primer tercio del siglo XX en que la arquitectura madrileña logró fundir modernidad y belleza. La combinación de los estilos históricos con las modernas técnicas constructivas dio lugar a edificios  muy atractivos como el Palacio de Cibeles\, el Instituto Cervantes\, el Círculo de Bellas Artes\, o la arquitectura  señorial de la Gran Vía.  Arquitectura\, arte y luz se unen en la obra de un Antonio Palacios\, el hombre que quiso convertir a Madrid en una capital moderna y elegante. Comenzamos la ruta en Alcalá\, 54\, muy cerca de Cibeles\, y terminaremos en Sol\, comentando la obra de Palacios como diseñador de la ciudad y del Metro. \nDuración: De dos horas a dos horas y media.  Precio: 10 €. \n\n\n\n\nApúntate por whatsapp: 697 41 96 73\, indicando tu nombre. O bien por correo: info@caminandopormadrid.com indicando nombre-s y teléfono. \nSe paga al comienzo\, en efectivo o bizum. Se ruega puntualidad. \n\n\n\n\n\n\n\n\n\n\n\n\n \n\n\n\n \n(c) Visita guiada creada por Carlos Osorio.
URL:https://caminandopormadrid.com/visita/antonio-palacios-arquitectura-y-belleza-2
LOCATION:Calle Alcalá\, 54\, Calle Alcalá\, 54\, Madrid\, 28014\, Spain
END:VEVENT
BEGIN:VEVENT
DTSTART;TZID=UTC:20250920T190000
DTEND;TZID=UTC:20250920T210000
DTSTAMP:20260425T112426
CREATED:20250908T095255Z
LAST-MODIFIED:20250910T080430Z
UID:20004-1758394800-1758402000@caminandopormadrid.com
SUMMARY:"Leyendas y misterios de Chueca y Malasaña"
DESCRIPTION:.\n\nSábado 20 de Septiembre de 2025 a las 19:00 horas.\n\nCita: a las 19 h. en C/ Alcalá esquina C/ Barquillo.\n. \nUn paseo por Chueca y Malasaña atravesando unas callejuelas llenas de leyendas\, misterios y fantasmas. Conoceremos al fantasma del Almirante y al de las Siete Chimeneas\, los extraños sucesos protagonizados por la secta de los alumbrados en el Convento de San Plácido\, la Leyenda de la Cueva\, la Casa del pecado Mortal\, la casa maldita de la calle Antonio Grilo y otras muchas historias. Terminamos cerca del metro Noviciado. \n. \n\nDuración: Dos horas. Precio: 12 € \nPara asistir hay que apuntarse por whatsapp en el  697 41 9 6 73\, o bien en el correo : info@caminandopormadrid.com  indicando nombre y teléfono. \nSe ruega puntualidad. Se paga al comienzo\, en efectivo o por bizum. \n\n\n\n\n\n\n\n\nSi deseas recibir información sobre las visitas guiadas de «Caminando por Madrid» envía un correo a\n\ninfo@caminandopormadrid.com\no un whatsapp al 697 419 673\, con tu correo y el texto: «información visitas»\n\n\n\n#visitasguiadasmadrid
URL:https://caminandopormadrid.com/visita/leyendas-y-misterios-de-chueca-y-malasana
LOCATION:Metro Banco\, calle Alcalá\, 49\, Madrid\, 28014\, España
END:VEVENT
END:VCALENDAR