BEGIN:VCALENDAR
VERSION:2.0
PRODID:-//Caminando por Madrid - ECPv6.15.13.1//NONSGML v1.0//EN
CALSCALE:GREGORIAN
METHOD:PUBLISH
X-ORIGINAL-URL:https://caminandopormadrid.com
X-WR-CALDESC:Eventos para Caminando por Madrid
REFRESH-INTERVAL;VALUE=DURATION:PT1H
X-Robots-Tag:noindex
X-PUBLISHED-TTL:PT1H
BEGIN:VTIMEZONE
TZID:UTC
BEGIN:STANDARD
TZOFFSETFROM:+0000
TZOFFSETTO:+0000
TZNAME:UTC
DTSTART:20240101T000000
END:STANDARD
END:VTIMEZONE
BEGIN:VEVENT
DTSTART;TZID=UTC:20250531T110000
DTEND;TZID=UTC:20250531T130000
DTSTAMP:20260425T160244
CREATED:20250523T151637Z
LAST-MODIFIED:20250523T151637Z
UID:19884-1748689200-1748696400@caminandopormadrid.com
SUMMARY:"Los Palacios de Chamberí"
DESCRIPTION:Sábado 31 de Mayo de 2025 a las 11:00 horas.\nCita: Junto al gran Café de Santander\, plaza de Santa Bárbara\, 4. (Alonso Martínez)\nUn paseo para conocer un barrio señorial lleno de edificios históricos y palacetes de gran interés. Al este de Chamberí\, y lindando con la Castellana\, burgueses y aristócratas crearon sus residencias empleando lenguajes historicistas y dotándolas de agradables  jardines. Comentaremos la historia de estos terrenos desde el Medievo\,  antes de convertirse en barrio residencial. Haremos mención a otros edificios interesantes pertenecientes a instituciones religiosas y pedagógicas y a ciertas obras singulares de la arquitectura madrileña. Reviviremos la vida\, anécdotas y costumbres de la aristocracia y la burguesía madrileña en el siglo XIX y primer tercio del XX. Sabremos cómo se vivía en los palacios\, a qué se dedicaban sus ocupantes\, de dónde sacaban el dinero\, cuántos criados tenían\, cómo se divertían… Terminaremos cerca de donde empezamos \nDuración: De dos horas a dos horas y media. Precio 10 €. \nReserva tu plaza por whatsapp: 697 41 96 73\, o bien por correo: info@caminandopormadrid.com\, con tu nombre y número de teléfono. \nSe ruega puntualidad. Se paga al comienzo\, en efectivo o bizum. \n\n\n\n\n\n\n\n\n\n \n \n \n(c) Visita creada por Carlos Osorio.
URL:https://caminandopormadrid.com/visita/los-palacios-de-chamberi-2
LOCATION:Plaza Alonso Martínez\, Plaza Santa Bárbara\, 4\, Madrid\, 28004\, España
END:VEVENT
END:VCALENDAR